BEGIN:VCALENDAR
VERSION:2.0
PRODID:-//The Numismatic Association of Victoria - ECPv6.14.1//NONSGML v1.0//EN
CALSCALE:GREGORIAN
METHOD:PUBLISH
X-ORIGINAL-URL:https://www.navic.org.au
X-WR-CALDESC:Events for The Numismatic Association of Victoria
REFRESH-INTERVAL;VALUE=DURATION:PT1H
X-Robots-Tag:noindex
X-PUBLISHED-TTL:PT1H
BEGIN:VTIMEZONE
TZID:Australia/Melbourne
BEGIN:STANDARD
TZOFFSETFROM:+1100
TZOFFSETTO:+1000
TZNAME:AEST
DTSTART:20250405T160000
END:STANDARD
BEGIN:DAYLIGHT
TZOFFSETFROM:+1000
TZOFFSETTO:+1100
TZNAME:AEDT
DTSTART:20251004T160000
END:DAYLIGHT
END:VTIMEZONE
BEGIN:VEVENT
DTSTART;TZID=Australia/Melbourne:20250725T074500
DTEND;TZID=Australia/Melbourne:20250725T213000
DTSTAMP:20260422T064522
CREATED:20250711T114108Z
LAST-MODIFIED:20250717T100809Z
UID:4487-1753429500-1753479000@www.navic.org.au
SUMMARY:NAV General Meeting
DESCRIPTION:Our next meeting will be at the Business Hub at Kensington Town Hall only 5km from the center of Melbourne. Join us for all the latest coin & banknote news\, member new acquisitions\, monthly topical presentations\, and great discussions on all things within the realm of numismatics.
URL:https://www.navic.org.au/event/nav-general-meeting/
LOCATION:Kensington Town Hall\, 30-34 Bellair St\, Kensington\, VIC\, 3031\, Australia
CATEGORIES:The Numismatic Association of Victoria
ORGANIZER;CN="The Numismatic Association of Victoria":MAILTO:treasurer@navic.org.au
END:VEVENT
END:VCALENDAR